BEGIN:VCALENDAR
VERSION:2.0
PRODID:-//Dr. Tiffany T. Butler - ECPv6.15.20//NONSGML v1.0//EN
CALSCALE:GREGORIAN
METHOD:PUBLISH
X-WR-CALNAME:Dr. Tiffany T. Butler
X-ORIGINAL-URL:https://www.drtiffanybutler.com
X-WR-CALDESC:Events for Dr. Tiffany T. Butler
REFRESH-INTERVAL;VALUE=DURATION:PT1H
X-Robots-Tag:noindex
X-PUBLISHED-TTL:PT1H
BEGIN:VTIMEZONE
TZID:UTC
BEGIN:STANDARD
TZOFFSETFROM:+0000
TZOFFSETTO:+0000
TZNAME:UTC
DTSTART:20250101T000000
END:STANDARD
END:VTIMEZONE
BEGIN:VEVENT
DTSTART;VALUE=DATE:20260226
DTEND;VALUE=DATE:20260302
DTSTAMP:20260423T163137
CREATED:20260327T004614Z
LAST-MODIFIED:20260327T004614Z
UID:4172-1772064000-1772409599@www.drtiffanybutler.com
SUMMARY:Office Closed for Employee Training
DESCRIPTION:Harmonious Living Chiropractic: Fitness & Wellness Center will be closed from Thursday\, February 26\, 2026 through Sunday\, March 1\, 2026 for Employee Training. Dr. Tiffany T. Butler and Team will return to the office on Monday\, March 2\, 2026\, during our normal business hours.   \nIf you need to reach us during this time\, call the after-hours number or email us. We will check our voicemail and email messages when we return to the office. \nShare this:\n				Share on X (Opens in new window)\n				X\n			\n				Share on Facebook (Opens in new window)\n				Facebook\n			\n				Email a link to a friend (Opens in new window)\n				Email\n			\n				Share on LinkedIn (Opens in new window)\n				LinkedIn\n			Like this:Like Loading...
URL:https://www.drtiffanybutler.com/events/office-closed-for-employee-training-10/
LOCATION:Harmonious Living Chiropractic: Fitness & Wellness Center\, LLC\, 10 South Street\, Baltimore\, MD\, 21202\, United States
ORGANIZER;CN="Harmonious Living Chiropractic%3A Fitness & Wellness Center":MAILTO:info@drtiffanybutler.com
END:VEVENT
BEGIN:VEVENT
DTSTART;VALUE=DATE:20260306
DTEND;VALUE=DATE:20260307
DTSTAMP:20260423T163137
CREATED:20260327T004022Z
LAST-MODIFIED:20260327T004210Z
UID:4165-1772755200-1772841599@www.drtiffanybutler.com
SUMMARY:Office Closed for Community Engagement Event
DESCRIPTION:Harmonious Living Chiropractic: Fitness & Wellness Center will be closed on Friday\, March 6\, 2026 for a Community Engagement Event. Dr. Tiffany T. Butler and Team will return to the office on Saturday\, March 7\, 2026\, during our normal business hours.   \nIf you need to reach us during this time\, call the after-hours number or email us. We will check our voicemail and email messages when we return to the office. \nShare this:\n				Share on X (Opens in new window)\n				X\n			\n				Share on Facebook (Opens in new window)\n				Facebook\n			\n				Email a link to a friend (Opens in new window)\n				Email\n			\n				Share on LinkedIn (Opens in new window)\n				LinkedIn\n			Like this:Like Loading...
URL:https://www.drtiffanybutler.com/events/office-closed-for-a-community-engagement-event/
LOCATION:Harmonious Living Chiropractic: Fitness & Wellness Center\, LLC\, 10 South Street\, Baltimore\, MD\, 21202\, United States
ORGANIZER;CN="Harmonious Living Chiropractic%3A Fitness & Wellness Center":MAILTO:info@drtiffanybutler.com
END:VEVENT
BEGIN:VEVENT
DTSTART;VALUE=DATE:20260314
DTEND;VALUE=DATE:20260315
DTSTAMP:20260423T163137
CREATED:20260327T003017Z
LAST-MODIFIED:20260327T003017Z
UID:4163-1773446400-1773532799@www.drtiffanybutler.com
SUMMARY:Office Closed for Employee Wellness Day
DESCRIPTION:Harmonious Living Chiropractic: Fitness & Wellness Center will be closed on March 14\, 2026 for Employee Wellness Day. Dr. Tiffany T. Butler and Team will return to the office on Sunday\, March 15\, 2026\, during our normal business hours.  \nIf you need to reach us during this time\, call the after-hours number or email us. We will check our voicemail and email messages when we return to the office on Sunday\, March 15\, 2026. \nShare this:\n				Share on X (Opens in new window)\n				X\n			\n				Share on Facebook (Opens in new window)\n				Facebook\n			\n				Email a link to a friend (Opens in new window)\n				Email\n			\n				Share on LinkedIn (Opens in new window)\n				LinkedIn\n			Like this:Like Loading...
URL:https://www.drtiffanybutler.com/events/office-closed-for-employee-wellness-day/
LOCATION:Harmonious Living Chiropractic: Fitness & Wellness Center\, LLC\, 10 South Street\, Baltimore\, MD\, 21202\, United States
ORGANIZER;CN="Harmonious Living Chiropractic%3A Fitness & Wellness Center":MAILTO:info@drtiffanybutler.com
END:VEVENT
END:VCALENDAR