BEGIN:VCALENDAR
VERSION:2.0
PRODID:-//Dr. Tiffany T. Butler - ECPv6.15.20//NONSGML v1.0//EN
CALSCALE:GREGORIAN
METHOD:PUBLISH
X-WR-CALNAME:Dr. Tiffany T. Butler
X-ORIGINAL-URL:https://www.drtiffanybutler.com
X-WR-CALDESC:Events for Dr. Tiffany T. Butler
REFRESH-INTERVAL;VALUE=DURATION:PT1H
X-Robots-Tag:noindex
X-PUBLISHED-TTL:PT1H
BEGIN:VTIMEZONE
TZID:UTC
BEGIN:STANDARD
TZOFFSETFROM:+0000
TZOFFSETTO:+0000
TZNAME:UTC
DTSTART:20240101T000000
END:STANDARD
END:VTIMEZONE
BEGIN:VEVENT
DTSTART;VALUE=DATE:20251231
DTEND;VALUE=DATE:20260102
DTSTAMP:20260423T195407
CREATED:20260327T001255Z
LAST-MODIFIED:20260327T001318Z
UID:4147-1767139200-1767311999@www.drtiffanybutler.com
SUMMARY:Office Closed for New Year's
DESCRIPTION:Harmonious Living Chiropractic: Fitness & Wellness Center will be closed for the New Year on Wednesday\, December 31\, 2025\, through Sunday\, Thursday\, January 1\, 2026\, to spend time with their loved ones. Dr. Tiffany T. Butler and Team will return to the office on Friday\, January 2\, 2026\, during our normal business hours.  \nIf you need to reach us during this time\, call the after-hours number or email us. We will check our voicemail and email messages when we return to the office on Friday\, January 2\, 2026. \nShare this:\n				Share on X (Opens in new window)\n				X\n			\n				Share on Facebook (Opens in new window)\n				Facebook\n			\n				Email a link to a friend (Opens in new window)\n				Email\n			\n				Share on LinkedIn (Opens in new window)\n				LinkedIn\n			Like this:Like Loading...
URL:https://www.drtiffanybutler.com/events/office-closed-for-new-years/
LOCATION:Harmonious Living Chiropractic: Fitness & Wellness Center\, LLC\, 10 South Street\, Baltimore\, MD\, 21202\, United States
ORGANIZER;CN="Harmonious Living Chiropractic%3A Fitness & Wellness Center":MAILTO:info@drtiffanybutler.com
END:VEVENT
BEGIN:VEVENT
DTSTART;VALUE=DATE:20260110
DTEND;VALUE=DATE:20260111
DTSTAMP:20260423T195407
CREATED:20260327T002036Z
LAST-MODIFIED:20260327T002036Z
UID:4155-1768003200-1768089599@www.drtiffanybutler.com
SUMMARY:Office Closed for Employee Training
DESCRIPTION:Harmonious Living Chiropractic: Fitness & Wellness Center will be closed on January 10\, 2026\, for Employee Training. Dr. Tiffany T. Butler and Team will return to the office on Sunday\, January 11\, 2026\, during our normal business hours.  \nIf you need to reach us during this time\, call the after-hours number or email us. We will check our voicemail and email messages when we return to the office on Sunday\, January 11\, 2026. \nShare this:\n				Share on X (Opens in new window)\n				X\n			\n				Share on Facebook (Opens in new window)\n				Facebook\n			\n				Email a link to a friend (Opens in new window)\n				Email\n			\n				Share on LinkedIn (Opens in new window)\n				LinkedIn\n			Like this:Like Loading...
URL:https://www.drtiffanybutler.com/events/office-closed-for-employee-training-6/
LOCATION:Harmonious Living Chiropractic: Fitness & Wellness Center\, LLC\, 10 South Street\, Baltimore\, MD\, 21202\, United States
ORGANIZER;CN="Harmonious Living Chiropractic%3A Fitness & Wellness Center":MAILTO:info@drtiffanybutler.com
END:VEVENT
BEGIN:VEVENT
DTSTART;VALUE=DATE:20260111
DTEND;VALUE=DATE:20260112
DTSTAMP:20260423T195407
CREATED:20260327T001825Z
LAST-MODIFIED:20260327T001825Z
UID:4153-1768089600-1768175999@www.drtiffanybutler.com
SUMMARY:Office Closed for Employee Training
DESCRIPTION:Harmonious Living Chiropractic: Fitness & Wellness Center will be closed on Saturday\, January 10\, 2026 for Employee Training. Dr. Tiffany T. Butler and Team will return to the office on Sunday\, January 11\, 2026\, during our normal business hours.  \nIf you need to reach us during this time\, call the after-hours number or email us. We will check our voicemail and email messages when we return to the office on Sunday\, January 11\, 2026. \nShare this:\n				Share on X (Opens in new window)\n				X\n			\n				Share on Facebook (Opens in new window)\n				Facebook\n			\n				Email a link to a friend (Opens in new window)\n				Email\n			\n				Share on LinkedIn (Opens in new window)\n				LinkedIn\n			Like this:Like Loading...
URL:https://www.drtiffanybutler.com/events/office-closed-for-employee-training-5/
LOCATION:Harmonious Living Chiropractic: Fitness & Wellness Center\, LLC\, 10 South Street\, Baltimore\, MD\, 21202\, United States
ORGANIZER;CN="Harmonious Living Chiropractic%3A Fitness & Wellness Center":MAILTO:info@drtiffanybutler.com
END:VEVENT
BEGIN:VEVENT
DTSTART;VALUE=DATE:20260126
DTEND;VALUE=DATE:20260127
DTSTAMP:20260423T195407
CREATED:20260327T001604Z
LAST-MODIFIED:20260327T001651Z
UID:4151-1769385600-1769471999@www.drtiffanybutler.com
SUMMARY:Office Closed Due to Inclement Weather
DESCRIPTION:Harmonious Living Chiropractic: Fitness & Wellness Center will be closed on January 26\, 2026\, due to inclement weather.  Dr. Tiffany T. Butler and Team will return to the office on Tuesday\, January 27\, 2026\, during our normal business hours.  \nIf you need to reach us during this time\, call the after-hours number or email us. We will check our voicemail and email messages when we return to the office on Tuesday\, January 27\, 2026. \nShare this:\n				Share on X (Opens in new window)\n				X\n			\n				Share on Facebook (Opens in new window)\n				Facebook\n			\n				Email a link to a friend (Opens in new window)\n				Email\n			\n				Share on LinkedIn (Opens in new window)\n				LinkedIn\n			Like this:Like Loading...
URL:https://www.drtiffanybutler.com/events/office-closed-due-to-inclement-weather/
LOCATION:Harmonious Living Chiropractic: Fitness & Wellness Center\, LLC\, 10 South Street\, Baltimore\, MD\, 21202\, United States
ORGANIZER;CN="Harmonious Living Chiropractic%3A Fitness & Wellness Center":MAILTO:info@drtiffanybutler.com
END:VEVENT
END:VCALENDAR