BEGIN:VCALENDAR
VERSION:2.0
PRODID:-//Dr. Tiffany T. Butler - ECPv6.15.20//NONSGML v1.0//EN
CALSCALE:GREGORIAN
METHOD:PUBLISH
X-WR-CALNAME:Dr. Tiffany T. Butler
X-ORIGINAL-URL:https://www.drtiffanybutler.com
X-WR-CALDESC:Events for Dr. Tiffany T. Butler
REFRESH-INTERVAL;VALUE=DURATION:PT1H
X-Robots-Tag:noindex
X-PUBLISHED-TTL:PT1H
BEGIN:VTIMEZONE
TZID:UTC
BEGIN:STANDARD
TZOFFSETFROM:+0000
TZOFFSETTO:+0000
TZNAME:UTC
DTSTART:20240101T000000
END:STANDARD
END:VTIMEZONE
BEGIN:VEVENT
DTSTART;TZID=UTC:20250316T130000
DTEND;TZID=UTC:20250316T160000
DTSTAMP:20260424T143126
CREATED:20241210T172206Z
LAST-MODIFIED:20250228T195626Z
UID:3251-1742130000-1742140800@www.drtiffanybutler.com
SUMMARY:Dr. Tiffany T. Butler | Baltimore's Chiropractor at Kelly Benefits St. Patrick's Day Shamrock 5k
DESCRIPTION:To remain in alignment with her values of service and community\, Dr. Tiffany T. Butler will be at the Kelly Benefits St. Patrick’s Day Shamrock 5k on Sunday\, March 16\, 2025\, at 1 pm \n\nEVENT: Kelly Benefits St. Patrick’s Day Shamrock 5k\nLOCATION: Charles and Mulberry\, Baltimore\, Maryland 21201\nDATE: Sunday\, March 16\, 2025\nTIME: 1 p.m. – until\n\nYou can support by participating in the race\, volunteering\, or just showing up to support the runners. For more information about the Kelly Benefits St. Patrick’s Day Shamrock 5k visit their website. \nWe hope to see you there! \nDr. Tiffany T. Butler will be a runner/participant at this event! \nCheer Dr. Tiffany T. Butler\, a local chiropractor based in Baltimore\, Maryland\, as she participates in this historical\, charitable event! You can also join Dr. Butler as a participant by clicking here to register. \nResearch shows that when healthcare providers participate in community-based events\, it creates an opportunity for local providers to build relationships in the community. Dr. Tiffany T. Butler believes by attending and participating in local community events in Baltimore City\, Maryland and the surrounding counties\, she can encourage and inspire others to stay healthy and active. \nDr. Tiffany T. Butler and her team are always looking for neighborhood\, community-based events that focus on health and wellness. In addition\, Dr. Butler is open to connecting with local community organizations and leaders in Baltimore\, Maryland and the surrounding to create lines of communication and contribute to making Baltimore\, Maryland a healthier and safer city for everyone. \nLet us know about your upcoming event by sending us an email. Dr. Tiffany Butler believes in creating meaningful relationships with the community she serves.  You can also book Dr. Butler for your next health and wellness event to be a presenter\, speaker\, and/or panelist. \n  \n  \nShare this:\n				Share on X (Opens in new window)\n				X\n			\n				Share on Facebook (Opens in new window)\n				Facebook\n			\n				Email a link to a friend (Opens in new window)\n				Email\n			\n				Share on LinkedIn (Opens in new window)\n				LinkedIn\n			Like this:Like Loading...
URL:https://www.drtiffanybutler.com/events/dr-tiffany-t-butler-baltimores-chiropractor-at-kelly-benefits-st-patricks-day-shamrock-5k/
LOCATION:MD
CATEGORIES:Community Engagement
ATTACH;FMTTYPE=image/png:https://www.drtiffanybutler.com/wp-content/uploads/2022/11/cropped-66-Copy.png
END:VEVENT
END:VCALENDAR