BEGIN:VCALENDAR
VERSION:2.0
PRODID:-//Dr. Tiffany T. Butler - ECPv6.15.20//NONSGML v1.0//EN
CALSCALE:GREGORIAN
METHOD:PUBLISH
X-WR-CALNAME:Dr. Tiffany T. Butler
X-ORIGINAL-URL:https://www.drtiffanybutler.com
X-WR-CALDESC:Events for Dr. Tiffany T. Butler
REFRESH-INTERVAL;VALUE=DURATION:PT1H
X-Robots-Tag:noindex
X-PUBLISHED-TTL:PT1H
BEGIN:VTIMEZONE
TZID:UTC
BEGIN:STANDARD
TZOFFSETFROM:+0000
TZOFFSETTO:+0000
TZNAME:UTC
DTSTART:20230101T000000
END:STANDARD
END:VTIMEZONE
BEGIN:VEVENT
DTSTART;VALUE=DATE:20241124
DTEND;VALUE=DATE:20241125
DTSTAMP:20260424T203037
CREATED:20241203T143310Z
LAST-MODIFIED:20241203T143420Z
UID:3200-1732406400-1732492799@www.drtiffanybutler.com
SUMMARY:Office Closed for "Thanksgiving Day"
DESCRIPTION:Dr. Tiffany T. Butler and team members are thankful for our patients and community. In observance of the holiday\, our offices will be closed on Thursday\, November 28\, 2024. We will reopen on Friday\, November 29\, 2024.  If you need to get in contact with us\, call the office at (410) 513 – 9149 and leave a voicemail message. \n \nShare this:\n				Share on X (Opens in new window)\n				X\n			\n				Share on Facebook (Opens in new window)\n				Facebook\n			\n				Email a link to a friend (Opens in new window)\n				Email\n			\n				Share on LinkedIn (Opens in new window)\n				LinkedIn\n			Like this:Like Loading...
URL:https://www.drtiffanybutler.com/events/office-closed-today-for-thanksgiving-day/
LOCATION:MD
END:VEVENT
END:VCALENDAR