BEGIN:VCALENDAR
VERSION:2.0
PRODID:-//Dr. Tiffany T. Butler - ECPv6.15.20//NONSGML v1.0//EN
CALSCALE:GREGORIAN
METHOD:PUBLISH
X-ORIGINAL-URL:https://www.drtiffanybutler.com
X-WR-CALDESC:Events for Dr. Tiffany T. Butler
REFRESH-INTERVAL;VALUE=DURATION:PT1H
X-Robots-Tag:noindex
X-PUBLISHED-TTL:PT1H
BEGIN:VTIMEZONE
TZID:UTC
BEGIN:STANDARD
TZOFFSETFROM:+0000
TZOFFSETTO:+0000
TZNAME:UTC
DTSTART:20250101T000000
END:STANDARD
END:VTIMEZONE
BEGIN:VEVENT
DTSTART;VALUE=DATE:20260525
DTEND;VALUE=DATE:20260526
DTSTAMP:20260423T164050
CREATED:20260327T004345Z
LAST-MODIFIED:20260331T211418Z
UID:4170-1779667200-1779753599@www.drtiffanybutler.com
SUMMARY:Office Closed for Holiday
DESCRIPTION:Harmonious Living Chiropractic: Fitness & Wellness Center will be closed on Monday\, May 25\, 2026 in observance of the holiday. Dr. Tiffany T. Butler and Team will return to the office on Tuesday\, May 26\, 2026\, during our normal business hours.   \nIf you need to reach us during this time\, call the after-hours number or email us. We will check our voicemail and email messages when we return to the office. \nShare this:\n				Share on X (Opens in new window)\n				X\n			\n				Share on Facebook (Opens in new window)\n				Facebook\n			\n				Email a link to a friend (Opens in new window)\n				Email\n			\n				Share on LinkedIn (Opens in new window)\n				LinkedIn\n			Like this:Like Loading...
URL:https://www.drtiffanybutler.com/events/office-closed-for-holiday-2/
LOCATION:Harmonious Living Chiropractic: Fitness & Wellness Center\, LLC\, 10 South Street\, Baltimore\, MD\, 21202\, United States
CATEGORIES:Office News
ATTACH;FMTTYPE=image/jpeg:https://www.drtiffanybutler.com/wp-content/uploads/2026/03/Closed-for-Holiday.jpg
ORGANIZER;CN="Harmonious Living Chiropractic%3A Fitness & Wellness Center":MAILTO:info@drtiffanybutler.com
END:VEVENT
BEGIN:VEVENT
DTSTART;VALUE=DATE:20260704
DTEND;VALUE=DATE:20260705
DTSTAMP:20260423T164050
CREATED:20260331T211831Z
LAST-MODIFIED:20260331T211831Z
UID:4285-1783123200-1783209599@www.drtiffanybutler.com
SUMMARY:Office Closed for Holiday
DESCRIPTION:Harmonious Living Chiropractic: Fitness & Wellness Center will be closed on Saturday\, July 4\, 2026\, in observance of the holiday. Dr. Tiffany T. Butler and Team will return to the office on Sunday\, July 5\, 2026\, during our normal business hours.   \nIf you need to reach us during this time\, call the after-hours number or email us. We will check our voicemail and email messages when we return to the office. \nShare this:\n				Share on X (Opens in new window)\n				X\n			\n				Share on Facebook (Opens in new window)\n				Facebook\n			\n				Email a link to a friend (Opens in new window)\n				Email\n			\n				Share on LinkedIn (Opens in new window)\n				LinkedIn\n			Like this:Like Loading...
URL:https://www.drtiffanybutler.com/events/office-closed-for-holiday-3/
LOCATION:Harmonious Living Chiropractic: Fitness & Wellness Center\, LLC\, 10 South Street\, Baltimore\, MD\, 21202\, United States
CATEGORIES:Office News
ATTACH;FMTTYPE=image/jpeg:https://www.drtiffanybutler.com/wp-content/uploads/2026/03/Closed-for-Holiday.jpg
ORGANIZER;CN="Harmonious Living Chiropractic%3A Fitness & Wellness Center":MAILTO:info@drtiffanybutler.com
END:VEVENT
BEGIN:VEVENT
DTSTART;VALUE=DATE:20260907
DTEND;VALUE=DATE:20260908
DTSTAMP:20260423T164050
CREATED:20260331T211958Z
LAST-MODIFIED:20260331T211958Z
UID:4287-1788739200-1788825599@www.drtiffanybutler.com
SUMMARY:Office Closed for Holiday
DESCRIPTION:Harmonious Living Chiropractic: Fitness & Wellness Center will be closed on Monday\, September 7\, 2026\, in observance of the holiday. Dr. Tiffany T. Butler and Team will return to the office on Tuesday\, September 8\, 2026\, during our normal business hours.   \nIf you need to reach us during this time\, call the after-hours number or email us. We will check our voicemail and email messages when we return to the office. \nShare this:\n				Share on X (Opens in new window)\n				X\n			\n				Share on Facebook (Opens in new window)\n				Facebook\n			\n				Email a link to a friend (Opens in new window)\n				Email\n			\n				Share on LinkedIn (Opens in new window)\n				LinkedIn\n			Like this:Like Loading...
URL:https://www.drtiffanybutler.com/events/office-closed-for-holiday-4/
LOCATION:Harmonious Living Chiropractic: Fitness & Wellness Center\, LLC\, 10 South Street\, Baltimore\, MD\, 21202\, United States
CATEGORIES:Office News
ATTACH;FMTTYPE=image/jpeg:https://www.drtiffanybutler.com/wp-content/uploads/2026/03/Closed-for-Holiday.jpg
ORGANIZER;CN="Harmonious Living Chiropractic%3A Fitness & Wellness Center":MAILTO:info@drtiffanybutler.com
END:VEVENT
BEGIN:VEVENT
DTSTART;VALUE=DATE:20261126
DTEND;VALUE=DATE:20261127
DTSTAMP:20260423T164050
CREATED:20260331T212123Z
LAST-MODIFIED:20260331T212123Z
UID:4289-1795651200-1795737599@www.drtiffanybutler.com
SUMMARY:Office Closed for Holiday
DESCRIPTION:Harmonious Living Chiropractic: Fitness & Wellness Center will be closed on Thursday\, November 26\, 2026\, in observance of the holiday. Dr. Tiffany T. Butler and Team will return to the office on Friday\, November 27\, 2026\, during our normal business hours.   \nIf you need to reach us during this time\, call the after-hours number or email us. We will check our voicemail and email messages when we return to the office. \nShare this:\n				Share on X (Opens in new window)\n				X\n			\n				Share on Facebook (Opens in new window)\n				Facebook\n			\n				Email a link to a friend (Opens in new window)\n				Email\n			\n				Share on LinkedIn (Opens in new window)\n				LinkedIn\n			Like this:Like Loading...
URL:https://www.drtiffanybutler.com/events/office-closed-for-holiday-5/
LOCATION:Harmonious Living Chiropractic: Fitness & Wellness Center\, LLC\, 10 South Street\, Baltimore\, MD\, 21202\, United States
CATEGORIES:Office News
ATTACH;FMTTYPE=image/jpeg:https://www.drtiffanybutler.com/wp-content/uploads/2026/03/Closed-for-Holiday.jpg
ORGANIZER;CN="Harmonious Living Chiropractic%3A Fitness & Wellness Center":MAILTO:info@drtiffanybutler.com
END:VEVENT
BEGIN:VEVENT
DTSTART;VALUE=DATE:20261224
DTEND;VALUE=DATE:20261228
DTSTAMP:20260423T164050
CREATED:20260331T212333Z
LAST-MODIFIED:20260331T212333Z
UID:4291-1798070400-1798415999@www.drtiffanybutler.com
SUMMARY:Office Closed for Holiday
DESCRIPTION:Harmonious Living Chiropractic: Fitness & Wellness Center will be closed on Thursday\, December 24\, 2026 through Sunday\, December 27\, 2026 in observance of the holiday. Dr. Tiffany T. Butler and Team will return to the office on Monday\, December 28\, 2026\, during our normal business hours.   \nIf you need to reach us during this time\, call the after-hours number or email us. We will check our voicemail and email messages when we return to the office. \nShare this:\n				Share on X (Opens in new window)\n				X\n			\n				Share on Facebook (Opens in new window)\n				Facebook\n			\n				Email a link to a friend (Opens in new window)\n				Email\n			\n				Share on LinkedIn (Opens in new window)\n				LinkedIn\n			Like this:Like Loading...
URL:https://www.drtiffanybutler.com/events/office-closed-for-holiday-6/
LOCATION:Harmonious Living Chiropractic: Fitness & Wellness Center\, LLC\, 10 South Street\, Baltimore\, MD\, 21202\, United States
CATEGORIES:Office News
ATTACH;FMTTYPE=image/jpeg:https://www.drtiffanybutler.com/wp-content/uploads/2026/03/Closed-for-Holiday.jpg
ORGANIZER;CN="Harmonious Living Chiropractic%3A Fitness & Wellness Center":MAILTO:info@drtiffanybutler.com
END:VEVENT
BEGIN:VEVENT
DTSTART;VALUE=DATE:20261231
DTEND;VALUE=DATE:20270104
DTSTAMP:20260423T164050
CREATED:20260331T212506Z
LAST-MODIFIED:20260331T212506Z
UID:4293-1798675200-1799020799@www.drtiffanybutler.com
SUMMARY:Office Closed for Holiday
DESCRIPTION:Harmonious Living Chiropractic: Fitness & Wellness Center will be closed on Thursday\, December 31\, 2026 through Sunday\, January 3\, 2027 in observance of the holiday. Dr. Tiffany T. Butler and Team will return to the office on Monday\, January 4\, 2027\, during our normal business hours.   \nIf you need to reach us during this time\, call the after-hours number or email us. We will check our voicemail and email messages when we return to the office. \nShare this:\n				Share on X (Opens in new window)\n				X\n			\n				Share on Facebook (Opens in new window)\n				Facebook\n			\n				Email a link to a friend (Opens in new window)\n				Email\n			\n				Share on LinkedIn (Opens in new window)\n				LinkedIn\n			Like this:Like Loading...
URL:https://www.drtiffanybutler.com/events/office-closed-for-holiday-7/
LOCATION:Harmonious Living Chiropractic: Fitness & Wellness Center\, LLC\, 10 South Street\, Baltimore\, MD\, 21202\, United States
CATEGORIES:Office News
ATTACH;FMTTYPE=image/jpeg:https://www.drtiffanybutler.com/wp-content/uploads/2026/03/Closed-for-Holiday.jpg
ORGANIZER;CN="Harmonious Living Chiropractic%3A Fitness & Wellness Center":MAILTO:info@drtiffanybutler.com
END:VEVENT
END:VCALENDAR