BEGIN:VCALENDAR
VERSION:2.0
PRODID:-//Dr. Tiffany T. Butler - ECPv6.15.20//NONSGML v1.0//EN
CALSCALE:GREGORIAN
METHOD:PUBLISH
X-ORIGINAL-URL:https://www.drtiffanybutler.com
X-WR-CALDESC:Events for Dr. Tiffany T. Butler
REFRESH-INTERVAL;VALUE=DURATION:PT1H
X-Robots-Tag:noindex
X-PUBLISHED-TTL:PT1H
BEGIN:VTIMEZONE
TZID:UTC
BEGIN:STANDARD
TZOFFSETFROM:+0000
TZOFFSETTO:+0000
TZNAME:UTC
DTSTART:20250101T000000
END:STANDARD
END:VTIMEZONE
BEGIN:VEVENT
DTSTART;TZID=UTC:20260816T080000
DTEND;TZID=UTC:20260816T090000
DTSTAMP:20260424T002305
CREATED:20260331T205122Z
LAST-MODIFIED:20260331T205138Z
UID:4258-1786867200-1786870800@www.drtiffanybutler.com
SUMMARY:Join us for a Walk with a Doc Event
DESCRIPTION:Harmonious Living Chiropractic: Fitness & Wellness Center is a proud member of Walk with a Doc. Join us every 3rd Sunday of every month at 8:00 a.m. for a walk at Patterson Park in Baltimore\, Maryland. \nWalk with a Doc is a “…walking program… fun and safe place to walk (at your own pace)\, learn health tips from local healthcare professionals\, and meet new people.” \nThis event is FREE and all are welcome! \nNote: Harmonious Living Chiropractic: Fitness & Wellness Center locations will be closed every 3rd Sunday of the month to participate in the Walk with the Doc event. \nShare this:\n				Share on X (Opens in new window)\n				X\n			\n				Share on Facebook (Opens in new window)\n				Facebook\n			\n				Email a link to a friend (Opens in new window)\n				Email\n			\n				Share on LinkedIn (Opens in new window)\n				LinkedIn\n			Like this:Like Loading...
URL:https://www.drtiffanybutler.com/events/join-us-for-a-walk-with-a-doc-event-4/
LOCATION:Patterson Park\, 2601 E. Baltimore Street\, Baltimore\, MD\, 21224\, United States
CATEGORIES:Community Engagement,Health & Wellness,Health Education,Health Support
ATTACH;FMTTYPE=image/png:https://www.drtiffanybutler.com/wp-content/uploads/2026/03/cropped-WWD.e.e.e.color_.registered-1-scaled-2.png
ORGANIZER;CN="Harmonious Living Chiropractic%3A Fitness & Wellness Center":MAILTO:info@drtiffanybutler.com
END:VEVENT
END:VCALENDAR