BEGIN:VCALENDAR
VERSION:2.0
PRODID:-//Dr. Tiffany T. Butler - ECPv6.15.20//NONSGML v1.0//EN
CALSCALE:GREGORIAN
METHOD:PUBLISH
X-ORIGINAL-URL:https://www.drtiffanybutler.com
X-WR-CALDESC:Events for Dr. Tiffany T. Butler
REFRESH-INTERVAL;VALUE=DURATION:PT1H
X-Robots-Tag:noindex
X-PUBLISHED-TTL:PT1H
BEGIN:VTIMEZONE
TZID:UTC
BEGIN:STANDARD
TZOFFSETFROM:+0000
TZOFFSETTO:+0000
TZNAME:UTC
DTSTART:20250101T000000
END:STANDARD
END:VTIMEZONE
BEGIN:VEVENT
DTSTART;VALUE=DATE:20260618
DTEND;VALUE=DATE:20260622
DTSTAMP:20260423T212535
CREATED:20260331T211009Z
LAST-MODIFIED:20260331T211009Z
UID:4278-1781740800-1782086399@www.drtiffanybutler.com
SUMMARY:Office Closed for Summer Health & Wellness Break
DESCRIPTION:Harmonious Living Chiropractic: Fitness & Wellness Center will be closed from Thursday\, June 18\, 2026 through Sunday\, June 21\, 2026 for a Summer Health & Wellness Break. Dr. Tiffany T. Butler and Team will return to the office on Monday\, June 22\, 2026 during our normal business hours.   \nIf you need to reach us during this time\, call the after-hours number or email us. We will check our voicemail and email messages when we return to the office.  \nShare this:\n				Share on X (Opens in new window)\n				X\n			\n				Share on Facebook (Opens in new window)\n				Facebook\n			\n				Email a link to a friend (Opens in new window)\n				Email\n			\n				Share on LinkedIn (Opens in new window)\n				LinkedIn\n			Like this:Like Loading...
URL:https://www.drtiffanybutler.com/events/office-closed-for-summer-health-wellness-break/
LOCATION:Harmonious Living Chiropractic: Fitness & Wellness Center\, LLC\, 10 South Street\, Baltimore\, MD\, 21202\, United States
ATTACH;FMTTYPE=image/jpeg:https://www.drtiffanybutler.com/wp-content/uploads/2026/03/sean-oulashin-KMn4VEeEPR8-unsplash-scaled.jpg
ORGANIZER;CN="Harmonious Living Chiropractic%3A Fitness & Wellness Center":MAILTO:info@drtiffanybutler.com
END:VEVENT
END:VCALENDAR