BEGIN:VCALENDAR
VERSION:2.0
PRODID:-//Dr. Tiffany T. Butler - ECPv6.15.20//NONSGML v1.0//EN
CALSCALE:GREGORIAN
METHOD:PUBLISH
X-WR-CALNAME:Dr. Tiffany T. Butler
X-ORIGINAL-URL:https://www.drtiffanybutler.com
X-WR-CALDESC:Events for Dr. Tiffany T. Butler
REFRESH-INTERVAL;VALUE=DURATION:PT1H
X-Robots-Tag:noindex
X-PUBLISHED-TTL:PT1H
BEGIN:VTIMEZONE
TZID:UTC
BEGIN:STANDARD
TZOFFSETFROM:+0000
TZOFFSETTO:+0000
TZNAME:UTC
DTSTART:20240101T000000
END:STANDARD
END:VTIMEZONE
BEGIN:VEVENT
DTSTART;VALUE=DATE:20251031
DTEND;VALUE=DATE:20251102
DTSTAMP:20260424T024251
CREATED:20251121T191738Z
LAST-MODIFIED:20251121T195737Z
UID:3919-1761868800-1762041599@www.drtiffanybutler.com
SUMMARY:Office Closed for Employee Training
DESCRIPTION:Harmonious Living Chiropractic: Fitness & Wellness Center will be closed for Employee Training on Friday\, October 31\, 2025 and Saturday\, November 1\, 2025. Dr. Tiffany T. Butler and Team will return to the office on Sunday\, November 2\, 2025\, during our normal business hours. \nIf you need to reach us during this time\, you can call the after-hours number or email us. We will check our voicemail and email messages when we return to the office on Sunday\, November 2\, 2025. \nShare this:\n				Share on X (Opens in new window)\n				X\n			\n				Share on Facebook (Opens in new window)\n				Facebook\n			\n				Email a link to a friend (Opens in new window)\n				Email\n			\n				Share on LinkedIn (Opens in new window)\n				LinkedIn\n			Like this:Like Loading...
URL:https://www.drtiffanybutler.com/events/office-closed-for-employee-training-2/
LOCATION:MD
ATTACH;FMTTYPE=image/jpeg:https://www.drtiffanybutler.com/wp-content/uploads/2025/11/riccardo-annandale-7e2pe9wjL9M-unsplash.jpg
ORGANIZER;CN="Harmonious Living Chiropractic%3A Fitness & Wellness Center":MAILTO:info@drtiffanybutler.com
END:VEVENT
END:VCALENDAR