BEGIN:VCALENDAR
VERSION:2.0
PRODID:-//Dr. Tiffany T. Butler - ECPv6.15.20//NONSGML v1.0//EN
CALSCALE:GREGORIAN
METHOD:PUBLISH
X-ORIGINAL-URL:https://www.drtiffanybutler.com
X-WR-CALDESC:Events for Dr. Tiffany T. Butler
REFRESH-INTERVAL;VALUE=DURATION:PT1H
X-Robots-Tag:noindex
X-PUBLISHED-TTL:PT1H
BEGIN:VTIMEZONE
TZID:UTC
BEGIN:STANDARD
TZOFFSETFROM:+0000
TZOFFSETTO:+0000
TZNAME:UTC
DTSTART:20230101T000000
END:STANDARD
END:VTIMEZONE
BEGIN:VEVENT
DTSTART;VALUE=DATE:20241231
DTEND;VALUE=DATE:20250102
DTSTAMP:20260424T185817
CREATED:20241203T144338Z
LAST-MODIFIED:20241203T144338Z
UID:3212-1735603200-1735775999@www.drtiffanybutler.com
SUMMARY:Office Closed for "New Years's Eve" and "New Year's Day"
DESCRIPTION:To support Dr. Tiffany T. Butler and her team to spend time with their families and friends\, our offices will be closed on Tuesday\, December 31\, 2024\, and Wednesday\, January 1\, 2025. We will reopen on Thursday\, January 2\, 2025. If you need to get in contact with us\, call the office at (410) 519 – 9149 and leave a voicemail message and we will return your call when we are back in the office. \n \nShare this:\n				Share on X (Opens in new window)\n				X\n			\n				Share on Facebook (Opens in new window)\n				Facebook\n			\n				Email a link to a friend (Opens in new window)\n				Email\n			\n				Share on LinkedIn (Opens in new window)\n				LinkedIn\n			Like this:Like Loading...
URL:https://www.drtiffanybutler.com/events/office-closed-for-new-yearss-eve-and-new-years-day/
LOCATION:MD
END:VEVENT
END:VCALENDAR